BEGIN:VCALENDAR
VERSION:2.0
PRODID:-//Nippenose Bible Fellowship - ECPv6.0.10//NONSGML v1.0//EN
CALSCALE:GREGORIAN
METHOD:PUBLISH
X-WR-CALNAME:Nippenose Bible Fellowship
X-ORIGINAL-URL:https://nippenosebiblefellowship.com
X-WR-CALDESC:Events for Nippenose Bible Fellowship
REFRESH-INTERVAL;VALUE=DURATION:PT1H
X-Robots-Tag:noindex
X-PUBLISHED-TTL:PT1H
BEGIN:VTIMEZONE
TZID:America/New_York
BEGIN:DAYLIGHT
TZOFFSETFROM:-0500
TZOFFSETTO:-0400
TZNAME:EDT
DTSTART:20240310T070000
END:DAYLIGHT
BEGIN:STANDARD
TZOFFSETFROM:-0400
TZOFFSETTO:-0500
TZNAME:EST
DTSTART:20241103T060000
END:STANDARD
END:VTIMEZONE
BEGIN:VEVENT
DTSTART;TZID=America/New_York:20241218T183000
DTEND;TZID=America/New_York:20241218T193000
DTSTAMP:20260421T061946
CREATED:20240208T194131Z
LAST-MODIFIED:20240208T194131Z
UID:10000449-1734546600-1734550200@nippenosebiblefellowship.com
SUMMARY:Youth Group
DESCRIPTION:
URL:https://nippenosebiblefellowship.com/event/youth-group/2024-12-18/
LOCATION:Nippenose BIble Fellowship\, 92 Schoolhouse Road\, Jersey Shore\, PA\, 17740\, United States
CATEGORIES:Youth Group
ATTACH;FMTTYPE=image/jpeg:https://nippenosebiblefellowship.com/wp-content/uploads/2024/02/2024-02-08_0001.jpg
END:VEVENT
BEGIN:VEVENT
DTSTART;TZID=America/New_York:20241211T183000
DTEND;TZID=America/New_York:20241211T193000
DTSTAMP:20260421T061946
CREATED:20240208T194131Z
LAST-MODIFIED:20240208T194131Z
UID:10000448-1733941800-1733945400@nippenosebiblefellowship.com
SUMMARY:Youth Group
DESCRIPTION:
URL:https://nippenosebiblefellowship.com/event/youth-group/2024-12-11/
LOCATION:Nippenose BIble Fellowship\, 92 Schoolhouse Road\, Jersey Shore\, PA\, 17740\, United States
CATEGORIES:Youth Group
ATTACH;FMTTYPE=image/jpeg:https://nippenosebiblefellowship.com/wp-content/uploads/2024/02/2024-02-08_0001.jpg
END:VEVENT
BEGIN:VEVENT
DTSTART;TZID=America/New_York:20241204T183000
DTEND;TZID=America/New_York:20241204T193000
DTSTAMP:20260421T061946
CREATED:20240208T194131Z
LAST-MODIFIED:20240208T194131Z
UID:10000447-1733337000-1733340600@nippenosebiblefellowship.com
SUMMARY:Youth Group
DESCRIPTION:
URL:https://nippenosebiblefellowship.com/event/youth-group/2024-12-04/
LOCATION:Nippenose BIble Fellowship\, 92 Schoolhouse Road\, Jersey Shore\, PA\, 17740\, United States
CATEGORIES:Youth Group
ATTACH;FMTTYPE=image/jpeg:https://nippenosebiblefellowship.com/wp-content/uploads/2024/02/2024-02-08_0001.jpg
END:VEVENT
BEGIN:VEVENT
DTSTART;TZID=America/New_York:20241127T183000
DTEND;TZID=America/New_York:20241127T193000
DTSTAMP:20260421T061946
CREATED:20240208T194131Z
LAST-MODIFIED:20240208T194131Z
UID:10000446-1732732200-1732735800@nippenosebiblefellowship.com
SUMMARY:Youth Group
DESCRIPTION:
URL:https://nippenosebiblefellowship.com/event/youth-group/2024-11-27/
LOCATION:Nippenose BIble Fellowship\, 92 Schoolhouse Road\, Jersey Shore\, PA\, 17740\, United States
CATEGORIES:Youth Group
ATTACH;FMTTYPE=image/jpeg:https://nippenosebiblefellowship.com/wp-content/uploads/2024/02/2024-02-08_0001.jpg
END:VEVENT
BEGIN:VEVENT
DTSTART;TZID=America/New_York:20241120T183000
DTEND;TZID=America/New_York:20241120T193000
DTSTAMP:20260421T061946
CREATED:20240208T194131Z
LAST-MODIFIED:20240208T194131Z
UID:10000445-1732127400-1732131000@nippenosebiblefellowship.com
SUMMARY:Youth Group
DESCRIPTION:
URL:https://nippenosebiblefellowship.com/event/youth-group/2024-11-20/
LOCATION:Nippenose BIble Fellowship\, 92 Schoolhouse Road\, Jersey Shore\, PA\, 17740\, United States
CATEGORIES:Youth Group
ATTACH;FMTTYPE=image/jpeg:https://nippenosebiblefellowship.com/wp-content/uploads/2024/02/2024-02-08_0001.jpg
END:VEVENT
BEGIN:VEVENT
DTSTART;TZID=America/New_York:20241113T183000
DTEND;TZID=America/New_York:20241113T193000
DTSTAMP:20260421T061946
CREATED:20240208T194131Z
LAST-MODIFIED:20240208T194131Z
UID:10000444-1731522600-1731526200@nippenosebiblefellowship.com
SUMMARY:Youth Group
DESCRIPTION:
URL:https://nippenosebiblefellowship.com/event/youth-group/2024-11-13/
LOCATION:Nippenose BIble Fellowship\, 92 Schoolhouse Road\, Jersey Shore\, PA\, 17740\, United States
CATEGORIES:Youth Group
ATTACH;FMTTYPE=image/jpeg:https://nippenosebiblefellowship.com/wp-content/uploads/2024/02/2024-02-08_0001.jpg
END:VEVENT
BEGIN:VEVENT
DTSTART;TZID=America/New_York:20241106T183000
DTEND;TZID=America/New_York:20241106T193000
DTSTAMP:20260421T061946
CREATED:20240208T194131Z
LAST-MODIFIED:20240208T194131Z
UID:10000443-1730917800-1730921400@nippenosebiblefellowship.com
SUMMARY:Youth Group
DESCRIPTION:
URL:https://nippenosebiblefellowship.com/event/youth-group/2024-11-06/
LOCATION:Nippenose BIble Fellowship\, 92 Schoolhouse Road\, Jersey Shore\, PA\, 17740\, United States
CATEGORIES:Youth Group
ATTACH;FMTTYPE=image/jpeg:https://nippenosebiblefellowship.com/wp-content/uploads/2024/02/2024-02-08_0001.jpg
END:VEVENT
BEGIN:VEVENT
DTSTART;TZID=America/New_York:20241030T183000
DTEND;TZID=America/New_York:20241030T193000
DTSTAMP:20260421T061946
CREATED:20240208T194131Z
LAST-MODIFIED:20240208T194131Z
UID:10000442-1730313000-1730316600@nippenosebiblefellowship.com
SUMMARY:Youth Group
DESCRIPTION:
URL:https://nippenosebiblefellowship.com/event/youth-group/2024-10-30/
LOCATION:Nippenose BIble Fellowship\, 92 Schoolhouse Road\, Jersey Shore\, PA\, 17740\, United States
CATEGORIES:Youth Group
ATTACH;FMTTYPE=image/jpeg:https://nippenosebiblefellowship.com/wp-content/uploads/2024/02/2024-02-08_0001.jpg
END:VEVENT
BEGIN:VEVENT
DTSTART;TZID=America/New_York:20241023T183000
DTEND;TZID=America/New_York:20241023T193000
DTSTAMP:20260421T061946
CREATED:20240208T194131Z
LAST-MODIFIED:20240208T194131Z
UID:10000441-1729708200-1729711800@nippenosebiblefellowship.com
SUMMARY:Youth Group
DESCRIPTION:
URL:https://nippenosebiblefellowship.com/event/youth-group/2024-10-23/
LOCATION:Nippenose BIble Fellowship\, 92 Schoolhouse Road\, Jersey Shore\, PA\, 17740\, United States
CATEGORIES:Youth Group
ATTACH;FMTTYPE=image/jpeg:https://nippenosebiblefellowship.com/wp-content/uploads/2024/02/2024-02-08_0001.jpg
END:VEVENT
BEGIN:VEVENT
DTSTART;TZID=America/New_York:20241016T183000
DTEND;TZID=America/New_York:20241016T193000
DTSTAMP:20260421T061946
CREATED:20240208T194131Z
LAST-MODIFIED:20240208T194131Z
UID:10000440-1729103400-1729107000@nippenosebiblefellowship.com
SUMMARY:Youth Group
DESCRIPTION:
URL:https://nippenosebiblefellowship.com/event/youth-group/2024-10-16/
LOCATION:Nippenose BIble Fellowship\, 92 Schoolhouse Road\, Jersey Shore\, PA\, 17740\, United States
CATEGORIES:Youth Group
ATTACH;FMTTYPE=image/jpeg:https://nippenosebiblefellowship.com/wp-content/uploads/2024/02/2024-02-08_0001.jpg
END:VEVENT
BEGIN:VEVENT
DTSTART;TZID=America/New_York:20241009T183000
DTEND;TZID=America/New_York:20241009T193000
DTSTAMP:20260421T061946
CREATED:20240208T194131Z
LAST-MODIFIED:20240208T194131Z
UID:10000439-1728498600-1728502200@nippenosebiblefellowship.com
SUMMARY:Youth Group
DESCRIPTION:
URL:https://nippenosebiblefellowship.com/event/youth-group/2024-10-09/
LOCATION:Nippenose BIble Fellowship\, 92 Schoolhouse Road\, Jersey Shore\, PA\, 17740\, United States
CATEGORIES:Youth Group
ATTACH;FMTTYPE=image/jpeg:https://nippenosebiblefellowship.com/wp-content/uploads/2024/02/2024-02-08_0001.jpg
END:VEVENT
BEGIN:VEVENT
DTSTART;TZID=America/New_York:20241002T183000
DTEND;TZID=America/New_York:20241002T193000
DTSTAMP:20260421T061946
CREATED:20240208T194131Z
LAST-MODIFIED:20240208T194131Z
UID:10000438-1727893800-1727897400@nippenosebiblefellowship.com
SUMMARY:Youth Group
DESCRIPTION:
URL:https://nippenosebiblefellowship.com/event/youth-group/2024-10-02/
LOCATION:Nippenose BIble Fellowship\, 92 Schoolhouse Road\, Jersey Shore\, PA\, 17740\, United States
CATEGORIES:Youth Group
ATTACH;FMTTYPE=image/jpeg:https://nippenosebiblefellowship.com/wp-content/uploads/2024/02/2024-02-08_0001.jpg
END:VEVENT
BEGIN:VEVENT
DTSTART;TZID=America/New_York:20240925T183000
DTEND;TZID=America/New_York:20240925T193000
DTSTAMP:20260421T061946
CREATED:20240208T194131Z
LAST-MODIFIED:20240208T194131Z
UID:10000437-1727289000-1727292600@nippenosebiblefellowship.com
SUMMARY:Youth Group
DESCRIPTION:
URL:https://nippenosebiblefellowship.com/event/youth-group/2024-09-25/
LOCATION:Nippenose BIble Fellowship\, 92 Schoolhouse Road\, Jersey Shore\, PA\, 17740\, United States
CATEGORIES:Youth Group
ATTACH;FMTTYPE=image/jpeg:https://nippenosebiblefellowship.com/wp-content/uploads/2024/02/2024-02-08_0001.jpg
END:VEVENT
BEGIN:VEVENT
DTSTART;TZID=America/New_York:20240918T183000
DTEND;TZID=America/New_York:20240918T193000
DTSTAMP:20260421T061946
CREATED:20240208T194131Z
LAST-MODIFIED:20240208T194131Z
UID:10000436-1726684200-1726687800@nippenosebiblefellowship.com
SUMMARY:Youth Group
DESCRIPTION:
URL:https://nippenosebiblefellowship.com/event/youth-group/2024-09-18/
LOCATION:Nippenose BIble Fellowship\, 92 Schoolhouse Road\, Jersey Shore\, PA\, 17740\, United States
CATEGORIES:Youth Group
ATTACH;FMTTYPE=image/jpeg:https://nippenosebiblefellowship.com/wp-content/uploads/2024/02/2024-02-08_0001.jpg
END:VEVENT
BEGIN:VEVENT
DTSTART;TZID=America/New_York:20240911T183000
DTEND;TZID=America/New_York:20240911T193000
DTSTAMP:20260421T061946
CREATED:20240208T194131Z
LAST-MODIFIED:20240208T194131Z
UID:10000435-1726079400-1726083000@nippenosebiblefellowship.com
SUMMARY:Youth Group
DESCRIPTION:
URL:https://nippenosebiblefellowship.com/event/youth-group/2024-09-11/
LOCATION:Nippenose BIble Fellowship\, 92 Schoolhouse Road\, Jersey Shore\, PA\, 17740\, United States
CATEGORIES:Youth Group
ATTACH;FMTTYPE=image/jpeg:https://nippenosebiblefellowship.com/wp-content/uploads/2024/02/2024-02-08_0001.jpg
END:VEVENT
BEGIN:VEVENT
DTSTART;TZID=America/New_York:20240904T183000
DTEND;TZID=America/New_York:20240904T193000
DTSTAMP:20260421T061946
CREATED:20240208T194131Z
LAST-MODIFIED:20240208T194131Z
UID:10000434-1725474600-1725478200@nippenosebiblefellowship.com
SUMMARY:Youth Group
DESCRIPTION:
URL:https://nippenosebiblefellowship.com/event/youth-group/2024-09-04/
LOCATION:Nippenose BIble Fellowship\, 92 Schoolhouse Road\, Jersey Shore\, PA\, 17740\, United States
CATEGORIES:Youth Group
ATTACH;FMTTYPE=image/jpeg:https://nippenosebiblefellowship.com/wp-content/uploads/2024/02/2024-02-08_0001.jpg
END:VEVENT
BEGIN:VEVENT
DTSTART;TZID=America/New_York:20240828T183000
DTEND;TZID=America/New_York:20240828T193000
DTSTAMP:20260421T061946
CREATED:20240208T194131Z
LAST-MODIFIED:20240208T194131Z
UID:10000433-1724869800-1724873400@nippenosebiblefellowship.com
SUMMARY:Youth Group
DESCRIPTION:
URL:https://nippenosebiblefellowship.com/event/youth-group/2024-08-28/
LOCATION:Nippenose BIble Fellowship\, 92 Schoolhouse Road\, Jersey Shore\, PA\, 17740\, United States
CATEGORIES:Youth Group
ATTACH;FMTTYPE=image/jpeg:https://nippenosebiblefellowship.com/wp-content/uploads/2024/02/2024-02-08_0001.jpg
END:VEVENT
BEGIN:VEVENT
DTSTART;TZID=America/New_York:20240821T183000
DTEND;TZID=America/New_York:20240821T193000
DTSTAMP:20260421T061946
CREATED:20240208T194131Z
LAST-MODIFIED:20240208T194131Z
UID:10000432-1724265000-1724268600@nippenosebiblefellowship.com
SUMMARY:Youth Group
DESCRIPTION:
URL:https://nippenosebiblefellowship.com/event/youth-group/2024-08-21/
LOCATION:Nippenose BIble Fellowship\, 92 Schoolhouse Road\, Jersey Shore\, PA\, 17740\, United States
CATEGORIES:Youth Group
ATTACH;FMTTYPE=image/jpeg:https://nippenosebiblefellowship.com/wp-content/uploads/2024/02/2024-02-08_0001.jpg
END:VEVENT
BEGIN:VEVENT
DTSTART;TZID=America/New_York:20240814T183000
DTEND;TZID=America/New_York:20240814T193000
DTSTAMP:20260421T061946
CREATED:20240208T194131Z
LAST-MODIFIED:20240208T194131Z
UID:10000431-1723660200-1723663800@nippenosebiblefellowship.com
SUMMARY:Youth Group
DESCRIPTION:
URL:https://nippenosebiblefellowship.com/event/youth-group/2024-08-14/
LOCATION:Nippenose BIble Fellowship\, 92 Schoolhouse Road\, Jersey Shore\, PA\, 17740\, United States
CATEGORIES:Youth Group
ATTACH;FMTTYPE=image/jpeg:https://nippenosebiblefellowship.com/wp-content/uploads/2024/02/2024-02-08_0001.jpg
END:VEVENT
BEGIN:VEVENT
DTSTART;TZID=America/New_York:20240807T183000
DTEND;TZID=America/New_York:20240807T193000
DTSTAMP:20260421T061946
CREATED:20240208T194131Z
LAST-MODIFIED:20240208T194131Z
UID:10000430-1723055400-1723059000@nippenosebiblefellowship.com
SUMMARY:Youth Group
DESCRIPTION:
URL:https://nippenosebiblefellowship.com/event/youth-group/2024-08-07/
LOCATION:Nippenose BIble Fellowship\, 92 Schoolhouse Road\, Jersey Shore\, PA\, 17740\, United States
CATEGORIES:Youth Group
ATTACH;FMTTYPE=image/jpeg:https://nippenosebiblefellowship.com/wp-content/uploads/2024/02/2024-02-08_0001.jpg
END:VEVENT
BEGIN:VEVENT
DTSTART;TZID=America/New_York:20240731T183000
DTEND;TZID=America/New_York:20240731T193000
DTSTAMP:20260421T061946
CREATED:20240208T194131Z
LAST-MODIFIED:20240208T194131Z
UID:10000429-1722450600-1722454200@nippenosebiblefellowship.com
SUMMARY:Youth Group
DESCRIPTION:
URL:https://nippenosebiblefellowship.com/event/youth-group/2024-07-31/
LOCATION:Nippenose BIble Fellowship\, 92 Schoolhouse Road\, Jersey Shore\, PA\, 17740\, United States
CATEGORIES:Youth Group
ATTACH;FMTTYPE=image/jpeg:https://nippenosebiblefellowship.com/wp-content/uploads/2024/02/2024-02-08_0001.jpg
END:VEVENT
BEGIN:VEVENT
DTSTART;TZID=America/New_York:20240724T183000
DTEND;TZID=America/New_York:20240724T193000
DTSTAMP:20260421T061946
CREATED:20240208T194131Z
LAST-MODIFIED:20240208T194131Z
UID:10000428-1721845800-1721849400@nippenosebiblefellowship.com
SUMMARY:Youth Group
DESCRIPTION:
URL:https://nippenosebiblefellowship.com/event/youth-group/2024-07-24/
LOCATION:Nippenose BIble Fellowship\, 92 Schoolhouse Road\, Jersey Shore\, PA\, 17740\, United States
CATEGORIES:Youth Group
ATTACH;FMTTYPE=image/jpeg:https://nippenosebiblefellowship.com/wp-content/uploads/2024/02/2024-02-08_0001.jpg
END:VEVENT
BEGIN:VEVENT
DTSTART;TZID=America/New_York:20240717T183000
DTEND;TZID=America/New_York:20240717T193000
DTSTAMP:20260421T061946
CREATED:20240208T194131Z
LAST-MODIFIED:20240208T194131Z
UID:10000427-1721241000-1721244600@nippenosebiblefellowship.com
SUMMARY:Youth Group
DESCRIPTION:
URL:https://nippenosebiblefellowship.com/event/youth-group/2024-07-17/
LOCATION:Nippenose BIble Fellowship\, 92 Schoolhouse Road\, Jersey Shore\, PA\, 17740\, United States
CATEGORIES:Youth Group
ATTACH;FMTTYPE=image/jpeg:https://nippenosebiblefellowship.com/wp-content/uploads/2024/02/2024-02-08_0001.jpg
END:VEVENT
BEGIN:VEVENT
DTSTART;TZID=America/New_York:20240710T183000
DTEND;TZID=America/New_York:20240710T193000
DTSTAMP:20260421T061946
CREATED:20240208T194131Z
LAST-MODIFIED:20240208T194131Z
UID:10000426-1720636200-1720639800@nippenosebiblefellowship.com
SUMMARY:Youth Group
DESCRIPTION:
URL:https://nippenosebiblefellowship.com/event/youth-group/2024-07-10/
LOCATION:Nippenose BIble Fellowship\, 92 Schoolhouse Road\, Jersey Shore\, PA\, 17740\, United States
CATEGORIES:Youth Group
ATTACH;FMTTYPE=image/jpeg:https://nippenosebiblefellowship.com/wp-content/uploads/2024/02/2024-02-08_0001.jpg
END:VEVENT
BEGIN:VEVENT
DTSTART;TZID=America/New_York:20240703T183000
DTEND;TZID=America/New_York:20240703T193000
DTSTAMP:20260421T061946
CREATED:20240208T194131Z
LAST-MODIFIED:20240208T194131Z
UID:10000425-1720031400-1720035000@nippenosebiblefellowship.com
SUMMARY:Youth Group
DESCRIPTION:
URL:https://nippenosebiblefellowship.com/event/youth-group/2024-07-03/
LOCATION:Nippenose BIble Fellowship\, 92 Schoolhouse Road\, Jersey Shore\, PA\, 17740\, United States
CATEGORIES:Youth Group
ATTACH;FMTTYPE=image/jpeg:https://nippenosebiblefellowship.com/wp-content/uploads/2024/02/2024-02-08_0001.jpg
END:VEVENT
BEGIN:VEVENT
DTSTART;TZID=America/New_York:20240626T183000
DTEND;TZID=America/New_York:20240626T193000
DTSTAMP:20260421T061946
CREATED:20240208T194131Z
LAST-MODIFIED:20240208T194131Z
UID:10000424-1719426600-1719430200@nippenosebiblefellowship.com
SUMMARY:Youth Group
DESCRIPTION:
URL:https://nippenosebiblefellowship.com/event/youth-group/2024-06-26/
LOCATION:Nippenose BIble Fellowship\, 92 Schoolhouse Road\, Jersey Shore\, PA\, 17740\, United States
CATEGORIES:Youth Group
ATTACH;FMTTYPE=image/jpeg:https://nippenosebiblefellowship.com/wp-content/uploads/2024/02/2024-02-08_0001.jpg
END:VEVENT
BEGIN:VEVENT
DTSTART;TZID=America/New_York:20240619T183000
DTEND;TZID=America/New_York:20240619T193000
DTSTAMP:20260421T061946
CREATED:20240208T194131Z
LAST-MODIFIED:20240208T194131Z
UID:10000423-1718821800-1718825400@nippenosebiblefellowship.com
SUMMARY:Youth Group
DESCRIPTION:
URL:https://nippenosebiblefellowship.com/event/youth-group/2024-06-19/
LOCATION:Nippenose BIble Fellowship\, 92 Schoolhouse Road\, Jersey Shore\, PA\, 17740\, United States
CATEGORIES:Youth Group
ATTACH;FMTTYPE=image/jpeg:https://nippenosebiblefellowship.com/wp-content/uploads/2024/02/2024-02-08_0001.jpg
END:VEVENT
BEGIN:VEVENT
DTSTART;TZID=America/New_York:20240612T183000
DTEND;TZID=America/New_York:20240612T193000
DTSTAMP:20260421T061946
CREATED:20240208T194131Z
LAST-MODIFIED:20240208T194131Z
UID:10000422-1718217000-1718220600@nippenosebiblefellowship.com
SUMMARY:Youth Group
DESCRIPTION:
URL:https://nippenosebiblefellowship.com/event/youth-group/2024-06-12/
LOCATION:Nippenose BIble Fellowship\, 92 Schoolhouse Road\, Jersey Shore\, PA\, 17740\, United States
CATEGORIES:Youth Group
ATTACH;FMTTYPE=image/jpeg:https://nippenosebiblefellowship.com/wp-content/uploads/2024/02/2024-02-08_0001.jpg
END:VEVENT
BEGIN:VEVENT
DTSTART;TZID=America/New_York:20240605T183000
DTEND;TZID=America/New_York:20240605T193000
DTSTAMP:20260421T061946
CREATED:20240208T194131Z
LAST-MODIFIED:20240208T194131Z
UID:10000421-1717612200-1717615800@nippenosebiblefellowship.com
SUMMARY:Youth Group
DESCRIPTION:
URL:https://nippenosebiblefellowship.com/event/youth-group/2024-06-05/
LOCATION:Nippenose BIble Fellowship\, 92 Schoolhouse Road\, Jersey Shore\, PA\, 17740\, United States
CATEGORIES:Youth Group
ATTACH;FMTTYPE=image/jpeg:https://nippenosebiblefellowship.com/wp-content/uploads/2024/02/2024-02-08_0001.jpg
END:VEVENT
BEGIN:VEVENT
DTSTART;TZID=America/New_York:20240529T183000
DTEND;TZID=America/New_York:20240529T193000
DTSTAMP:20260421T061946
CREATED:20240208T194131Z
LAST-MODIFIED:20240208T194131Z
UID:10000420-1717007400-1717011000@nippenosebiblefellowship.com
SUMMARY:Youth Group
DESCRIPTION:
URL:https://nippenosebiblefellowship.com/event/youth-group/2024-05-29/
LOCATION:Nippenose BIble Fellowship\, 92 Schoolhouse Road\, Jersey Shore\, PA\, 17740\, United States
CATEGORIES:Youth Group
ATTACH;FMTTYPE=image/jpeg:https://nippenosebiblefellowship.com/wp-content/uploads/2024/02/2024-02-08_0001.jpg
END:VEVENT
END:VCALENDAR