BEGIN:VCALENDAR
VERSION:2.0
PRODID:-//Nippenose Bible Fellowship - ECPv6.0.10//NONSGML v1.0//EN
CALSCALE:GREGORIAN
METHOD:PUBLISH
X-WR-CALNAME:Nippenose Bible Fellowship
X-ORIGINAL-URL:https://nippenosebiblefellowship.com
X-WR-CALDESC:Events for Nippenose Bible Fellowship
REFRESH-INTERVAL;VALUE=DURATION:PT1H
X-Robots-Tag:noindex
X-PUBLISHED-TTL:PT1H
BEGIN:VTIMEZONE
TZID:America/New_York
BEGIN:DAYLIGHT
TZOFFSETFROM:-0500
TZOFFSETTO:-0400
TZNAME:EDT
DTSTART:20240310T070000
END:DAYLIGHT
BEGIN:STANDARD
TZOFFSETFROM:-0400
TZOFFSETTO:-0500
TZNAME:EST
DTSTART:20241103T060000
END:STANDARD
END:VTIMEZONE
BEGIN:VEVENT
DTSTART;TZID=America/New_York:20240501T183000
DTEND;TZID=America/New_York:20240501T193000
DTSTAMP:20260421T124500
CREATED:20240208T194131Z
LAST-MODIFIED:20240208T194131Z
UID:10000416-1714588200-1714591800@nippenosebiblefellowship.com
SUMMARY:Youth Group
DESCRIPTION:
URL:https://nippenosebiblefellowship.com/event/youth-group/2024-05-01/
LOCATION:Nippenose BIble Fellowship\, 92 Schoolhouse Road\, Jersey Shore\, PA\, 17740\, United States
CATEGORIES:Youth Group
ATTACH;FMTTYPE=image/jpeg:https://nippenosebiblefellowship.com/wp-content/uploads/2024/02/2024-02-08_0001.jpg
END:VEVENT
BEGIN:VEVENT
DTSTART;TZID=America/New_York:20240505T083000
DTEND;TZID=America/New_York:20240505T100000
DTSTAMP:20260421T124500
CREATED:20240208T195422Z
LAST-MODIFIED:20240313T024212Z
UID:10000488-1714897800-1714903200@nippenosebiblefellowship.com
SUMMARY:Small Group Sundays
DESCRIPTION:Join us for coffee\, snacks and Small Group Ministries. \nSocial time on Sunday mornings at 8:30am with Small Group Ministries starting at 9:00am.  We have many class options available: Elementary\, Middle and High School age\, Young Adults\, and other groups for various interests for all ages!   Please contact us today with any questions.  We hope to see you there soon!
URL:https://nippenosebiblefellowship.com/event/sunday-school/2024-05-05/
LOCATION:Nippenose BIble Fellowship\, 92 Schoolhouse Road\, Jersey Shore\, PA\, 17740\, United States
CATEGORIES:Sunday School
ATTACH;FMTTYPE=image/jpeg:https://nippenosebiblefellowship.com/wp-content/uploads/2024/02/sunday.jpg
END:VEVENT
BEGIN:VEVENT
DTSTART;TZID=America/New_York:20240508T183000
DTEND;TZID=America/New_York:20240508T193000
DTSTAMP:20260421T124500
CREATED:20240208T194131Z
LAST-MODIFIED:20240208T194131Z
UID:10000417-1715193000-1715196600@nippenosebiblefellowship.com
SUMMARY:Youth Group
DESCRIPTION:
URL:https://nippenosebiblefellowship.com/event/youth-group/2024-05-08/
LOCATION:Nippenose BIble Fellowship\, 92 Schoolhouse Road\, Jersey Shore\, PA\, 17740\, United States
CATEGORIES:Youth Group
ATTACH;FMTTYPE=image/jpeg:https://nippenosebiblefellowship.com/wp-content/uploads/2024/02/2024-02-08_0001.jpg
END:VEVENT
BEGIN:VEVENT
DTSTART;TZID=America/New_York:20240512T083000
DTEND;TZID=America/New_York:20240512T100000
DTSTAMP:20260421T124500
CREATED:20240208T195422Z
LAST-MODIFIED:20240313T024212Z
UID:10000489-1715502600-1715508000@nippenosebiblefellowship.com
SUMMARY:Small Group Sundays
DESCRIPTION:Join us for coffee\, snacks and Small Group Ministries. \nSocial time on Sunday mornings at 8:30am with Small Group Ministries starting at 9:00am.  We have many class options available: Elementary\, Middle and High School age\, Young Adults\, and other groups for various interests for all ages!   Please contact us today with any questions.  We hope to see you there soon!
URL:https://nippenosebiblefellowship.com/event/sunday-school/2024-05-12/
LOCATION:Nippenose BIble Fellowship\, 92 Schoolhouse Road\, Jersey Shore\, PA\, 17740\, United States
CATEGORIES:Sunday School
ATTACH;FMTTYPE=image/jpeg:https://nippenosebiblefellowship.com/wp-content/uploads/2024/02/sunday.jpg
END:VEVENT
BEGIN:VEVENT
DTSTART;TZID=America/New_York:20240515T183000
DTEND;TZID=America/New_York:20240515T193000
DTSTAMP:20260421T124500
CREATED:20240208T194131Z
LAST-MODIFIED:20240208T194131Z
UID:10000418-1715797800-1715801400@nippenosebiblefellowship.com
SUMMARY:Youth Group
DESCRIPTION:
URL:https://nippenosebiblefellowship.com/event/youth-group/2024-05-15/
LOCATION:Nippenose BIble Fellowship\, 92 Schoolhouse Road\, Jersey Shore\, PA\, 17740\, United States
CATEGORIES:Youth Group
ATTACH;FMTTYPE=image/jpeg:https://nippenosebiblefellowship.com/wp-content/uploads/2024/02/2024-02-08_0001.jpg
END:VEVENT
BEGIN:VEVENT
DTSTART;TZID=America/New_York:20240519T083000
DTEND;TZID=America/New_York:20240519T100000
DTSTAMP:20260421T124500
CREATED:20240208T195422Z
LAST-MODIFIED:20240313T024212Z
UID:10000490-1716107400-1716112800@nippenosebiblefellowship.com
SUMMARY:Small Group Sundays
DESCRIPTION:Join us for coffee\, snacks and Small Group Ministries. \nSocial time on Sunday mornings at 8:30am with Small Group Ministries starting at 9:00am.  We have many class options available: Elementary\, Middle and High School age\, Young Adults\, and other groups for various interests for all ages!   Please contact us today with any questions.  We hope to see you there soon!
URL:https://nippenosebiblefellowship.com/event/sunday-school/2024-05-19/
LOCATION:Nippenose BIble Fellowship\, 92 Schoolhouse Road\, Jersey Shore\, PA\, 17740\, United States
CATEGORIES:Sunday School
ATTACH;FMTTYPE=image/jpeg:https://nippenosebiblefellowship.com/wp-content/uploads/2024/02/sunday.jpg
END:VEVENT
BEGIN:VEVENT
DTSTART;TZID=America/New_York:20240522T183000
DTEND;TZID=America/New_York:20240522T193000
DTSTAMP:20260421T124500
CREATED:20240208T194131Z
LAST-MODIFIED:20240208T194131Z
UID:10000419-1716402600-1716406200@nippenosebiblefellowship.com
SUMMARY:Youth Group
DESCRIPTION:
URL:https://nippenosebiblefellowship.com/event/youth-group/2024-05-22/
LOCATION:Nippenose BIble Fellowship\, 92 Schoolhouse Road\, Jersey Shore\, PA\, 17740\, United States
CATEGORIES:Youth Group
ATTACH;FMTTYPE=image/jpeg:https://nippenosebiblefellowship.com/wp-content/uploads/2024/02/2024-02-08_0001.jpg
END:VEVENT
BEGIN:VEVENT
DTSTART;TZID=America/New_York:20240526T083000
DTEND;TZID=America/New_York:20240526T100000
DTSTAMP:20260421T124500
CREATED:20240208T195422Z
LAST-MODIFIED:20240313T024212Z
UID:10000491-1716712200-1716717600@nippenosebiblefellowship.com
SUMMARY:Small Group Sundays
DESCRIPTION:Join us for coffee\, snacks and Small Group Ministries. \nSocial time on Sunday mornings at 8:30am with Small Group Ministries starting at 9:00am.  We have many class options available: Elementary\, Middle and High School age\, Young Adults\, and other groups for various interests for all ages!   Please contact us today with any questions.  We hope to see you there soon!
URL:https://nippenosebiblefellowship.com/event/sunday-school/2024-05-26/
LOCATION:Nippenose BIble Fellowship\, 92 Schoolhouse Road\, Jersey Shore\, PA\, 17740\, United States
CATEGORIES:Sunday School
ATTACH;FMTTYPE=image/jpeg:https://nippenosebiblefellowship.com/wp-content/uploads/2024/02/sunday.jpg
END:VEVENT
BEGIN:VEVENT
DTSTART;TZID=America/New_York:20240529T183000
DTEND;TZID=America/New_York:20240529T193000
DTSTAMP:20260421T124500
CREATED:20240208T194131Z
LAST-MODIFIED:20240208T194131Z
UID:10000420-1717007400-1717011000@nippenosebiblefellowship.com
SUMMARY:Youth Group
DESCRIPTION:
URL:https://nippenosebiblefellowship.com/event/youth-group/2024-05-29/
LOCATION:Nippenose BIble Fellowship\, 92 Schoolhouse Road\, Jersey Shore\, PA\, 17740\, United States
CATEGORIES:Youth Group
ATTACH;FMTTYPE=image/jpeg:https://nippenosebiblefellowship.com/wp-content/uploads/2024/02/2024-02-08_0001.jpg
END:VEVENT
BEGIN:VEVENT
DTSTART;TZID=America/New_York:20240602T083000
DTEND;TZID=America/New_York:20240602T100000
DTSTAMP:20260421T124500
CREATED:20240208T195422Z
LAST-MODIFIED:20240313T024212Z
UID:10000492-1717317000-1717322400@nippenosebiblefellowship.com
SUMMARY:Small Group Sundays
DESCRIPTION:Join us for coffee\, snacks and Small Group Ministries. \nSocial time on Sunday mornings at 8:30am with Small Group Ministries starting at 9:00am.  We have many class options available: Elementary\, Middle and High School age\, Young Adults\, and other groups for various interests for all ages!   Please contact us today with any questions.  We hope to see you there soon!
URL:https://nippenosebiblefellowship.com/event/sunday-school/2024-06-02/
LOCATION:Nippenose BIble Fellowship\, 92 Schoolhouse Road\, Jersey Shore\, PA\, 17740\, United States
CATEGORIES:Sunday School
ATTACH;FMTTYPE=image/jpeg:https://nippenosebiblefellowship.com/wp-content/uploads/2024/02/sunday.jpg
END:VEVENT
BEGIN:VEVENT
DTSTART;TZID=America/New_York:20240605T183000
DTEND;TZID=America/New_York:20240605T193000
DTSTAMP:20260421T124500
CREATED:20240208T194131Z
LAST-MODIFIED:20240208T194131Z
UID:10000421-1717612200-1717615800@nippenosebiblefellowship.com
SUMMARY:Youth Group
DESCRIPTION:
URL:https://nippenosebiblefellowship.com/event/youth-group/2024-06-05/
LOCATION:Nippenose BIble Fellowship\, 92 Schoolhouse Road\, Jersey Shore\, PA\, 17740\, United States
CATEGORIES:Youth Group
ATTACH;FMTTYPE=image/jpeg:https://nippenosebiblefellowship.com/wp-content/uploads/2024/02/2024-02-08_0001.jpg
END:VEVENT
BEGIN:VEVENT
DTSTART;TZID=America/New_York:20240609T083000
DTEND;TZID=America/New_York:20240609T100000
DTSTAMP:20260421T124500
CREATED:20240208T195422Z
LAST-MODIFIED:20240313T024212Z
UID:10000493-1717921800-1717927200@nippenosebiblefellowship.com
SUMMARY:Small Group Sundays
DESCRIPTION:Join us for coffee\, snacks and Small Group Ministries. \nSocial time on Sunday mornings at 8:30am with Small Group Ministries starting at 9:00am.  We have many class options available: Elementary\, Middle and High School age\, Young Adults\, and other groups for various interests for all ages!   Please contact us today with any questions.  We hope to see you there soon!
URL:https://nippenosebiblefellowship.com/event/sunday-school/2024-06-09/
LOCATION:Nippenose BIble Fellowship\, 92 Schoolhouse Road\, Jersey Shore\, PA\, 17740\, United States
CATEGORIES:Sunday School
ATTACH;FMTTYPE=image/jpeg:https://nippenosebiblefellowship.com/wp-content/uploads/2024/02/sunday.jpg
END:VEVENT
BEGIN:VEVENT
DTSTART;TZID=America/New_York:20240612T183000
DTEND;TZID=America/New_York:20240612T193000
DTSTAMP:20260421T124500
CREATED:20240208T194131Z
LAST-MODIFIED:20240208T194131Z
UID:10000422-1718217000-1718220600@nippenosebiblefellowship.com
SUMMARY:Youth Group
DESCRIPTION:
URL:https://nippenosebiblefellowship.com/event/youth-group/2024-06-12/
LOCATION:Nippenose BIble Fellowship\, 92 Schoolhouse Road\, Jersey Shore\, PA\, 17740\, United States
CATEGORIES:Youth Group
ATTACH;FMTTYPE=image/jpeg:https://nippenosebiblefellowship.com/wp-content/uploads/2024/02/2024-02-08_0001.jpg
END:VEVENT
BEGIN:VEVENT
DTSTART;TZID=America/New_York:20240616T083000
DTEND;TZID=America/New_York:20240616T100000
DTSTAMP:20260421T124500
CREATED:20240208T195422Z
LAST-MODIFIED:20240313T024212Z
UID:10000494-1718526600-1718532000@nippenosebiblefellowship.com
SUMMARY:Small Group Sundays
DESCRIPTION:Join us for coffee\, snacks and Small Group Ministries. \nSocial time on Sunday mornings at 8:30am with Small Group Ministries starting at 9:00am.  We have many class options available: Elementary\, Middle and High School age\, Young Adults\, and other groups for various interests for all ages!   Please contact us today with any questions.  We hope to see you there soon!
URL:https://nippenosebiblefellowship.com/event/sunday-school/2024-06-16/
LOCATION:Nippenose BIble Fellowship\, 92 Schoolhouse Road\, Jersey Shore\, PA\, 17740\, United States
CATEGORIES:Sunday School
ATTACH;FMTTYPE=image/jpeg:https://nippenosebiblefellowship.com/wp-content/uploads/2024/02/sunday.jpg
END:VEVENT
BEGIN:VEVENT
DTSTART;TZID=America/New_York:20240619T183000
DTEND;TZID=America/New_York:20240619T193000
DTSTAMP:20260421T124500
CREATED:20240208T194131Z
LAST-MODIFIED:20240208T194131Z
UID:10000423-1718821800-1718825400@nippenosebiblefellowship.com
SUMMARY:Youth Group
DESCRIPTION:
URL:https://nippenosebiblefellowship.com/event/youth-group/2024-06-19/
LOCATION:Nippenose BIble Fellowship\, 92 Schoolhouse Road\, Jersey Shore\, PA\, 17740\, United States
CATEGORIES:Youth Group
ATTACH;FMTTYPE=image/jpeg:https://nippenosebiblefellowship.com/wp-content/uploads/2024/02/2024-02-08_0001.jpg
END:VEVENT
BEGIN:VEVENT
DTSTART;TZID=America/New_York:20240623T083000
DTEND;TZID=America/New_York:20240623T100000
DTSTAMP:20260421T124500
CREATED:20240208T195422Z
LAST-MODIFIED:20240313T024212Z
UID:10000495-1719131400-1719136800@nippenosebiblefellowship.com
SUMMARY:Small Group Sundays
DESCRIPTION:Join us for coffee\, snacks and Small Group Ministries. \nSocial time on Sunday mornings at 8:30am with Small Group Ministries starting at 9:00am.  We have many class options available: Elementary\, Middle and High School age\, Young Adults\, and other groups for various interests for all ages!   Please contact us today with any questions.  We hope to see you there soon!
URL:https://nippenosebiblefellowship.com/event/sunday-school/2024-06-23/
LOCATION:Nippenose BIble Fellowship\, 92 Schoolhouse Road\, Jersey Shore\, PA\, 17740\, United States
CATEGORIES:Sunday School
ATTACH;FMTTYPE=image/jpeg:https://nippenosebiblefellowship.com/wp-content/uploads/2024/02/sunday.jpg
END:VEVENT
BEGIN:VEVENT
DTSTART;TZID=America/New_York:20240626T183000
DTEND;TZID=America/New_York:20240626T193000
DTSTAMP:20260421T124500
CREATED:20240208T194131Z
LAST-MODIFIED:20240208T194131Z
UID:10000424-1719426600-1719430200@nippenosebiblefellowship.com
SUMMARY:Youth Group
DESCRIPTION:
URL:https://nippenosebiblefellowship.com/event/youth-group/2024-06-26/
LOCATION:Nippenose BIble Fellowship\, 92 Schoolhouse Road\, Jersey Shore\, PA\, 17740\, United States
CATEGORIES:Youth Group
ATTACH;FMTTYPE=image/jpeg:https://nippenosebiblefellowship.com/wp-content/uploads/2024/02/2024-02-08_0001.jpg
END:VEVENT
BEGIN:VEVENT
DTSTART;TZID=America/New_York:20240630T083000
DTEND;TZID=America/New_York:20240630T100000
DTSTAMP:20260421T124500
CREATED:20240208T195422Z
LAST-MODIFIED:20240313T024212Z
UID:10000496-1719736200-1719741600@nippenosebiblefellowship.com
SUMMARY:Small Group Sundays
DESCRIPTION:Join us for coffee\, snacks and Small Group Ministries. \nSocial time on Sunday mornings at 8:30am with Small Group Ministries starting at 9:00am.  We have many class options available: Elementary\, Middle and High School age\, Young Adults\, and other groups for various interests for all ages!   Please contact us today with any questions.  We hope to see you there soon!
URL:https://nippenosebiblefellowship.com/event/sunday-school/2024-06-30/
LOCATION:Nippenose BIble Fellowship\, 92 Schoolhouse Road\, Jersey Shore\, PA\, 17740\, United States
CATEGORIES:Sunday School
ATTACH;FMTTYPE=image/jpeg:https://nippenosebiblefellowship.com/wp-content/uploads/2024/02/sunday.jpg
END:VEVENT
BEGIN:VEVENT
DTSTART;TZID=America/New_York:20240703T183000
DTEND;TZID=America/New_York:20240703T193000
DTSTAMP:20260421T124500
CREATED:20240208T194131Z
LAST-MODIFIED:20240208T194131Z
UID:10000425-1720031400-1720035000@nippenosebiblefellowship.com
SUMMARY:Youth Group
DESCRIPTION:
URL:https://nippenosebiblefellowship.com/event/youth-group/2024-07-03/
LOCATION:Nippenose BIble Fellowship\, 92 Schoolhouse Road\, Jersey Shore\, PA\, 17740\, United States
CATEGORIES:Youth Group
ATTACH;FMTTYPE=image/jpeg:https://nippenosebiblefellowship.com/wp-content/uploads/2024/02/2024-02-08_0001.jpg
END:VEVENT
BEGIN:VEVENT
DTSTART;TZID=America/New_York:20240707T083000
DTEND;TZID=America/New_York:20240707T100000
DTSTAMP:20260421T124500
CREATED:20240208T195422Z
LAST-MODIFIED:20240313T024212Z
UID:10000497-1720341000-1720346400@nippenosebiblefellowship.com
SUMMARY:Small Group Sundays
DESCRIPTION:Join us for coffee\, snacks and Small Group Ministries. \nSocial time on Sunday mornings at 8:30am with Small Group Ministries starting at 9:00am.  We have many class options available: Elementary\, Middle and High School age\, Young Adults\, and other groups for various interests for all ages!   Please contact us today with any questions.  We hope to see you there soon!
URL:https://nippenosebiblefellowship.com/event/sunday-school/2024-07-07/
LOCATION:Nippenose BIble Fellowship\, 92 Schoolhouse Road\, Jersey Shore\, PA\, 17740\, United States
CATEGORIES:Sunday School
ATTACH;FMTTYPE=image/jpeg:https://nippenosebiblefellowship.com/wp-content/uploads/2024/02/sunday.jpg
END:VEVENT
BEGIN:VEVENT
DTSTART;TZID=America/New_York:20240709T180000
DTEND;TZID=America/New_York:20240709T203000
DTSTAMP:20260421T124500
CREATED:20220330T145740Z
LAST-MODIFIED:20240208T191757Z
UID:10000339-1720548000-1720557000@nippenosebiblefellowship.com
SUMMARY:2024 Vacation Bible School
DESCRIPTION:Join us for Vacation Bible School July 9th through July 12th from 6pm to 8:30pm. Registration and Check-in daily at 5:30PM \nAll children entering Pre-k through 5th grade are welcome. \nEvery day\, our kids are bombarded with questions: Did God really create everything? Why do bad things happen? Was Noah’s ark real? Why do I need to be saved? Can I trust the Bible? At this VBS\, your kids will explore the biblical answers to these questions as they set off on an epic adventure from Genesis to Revelation. Amid sloths\, butterflies\, river dolphins\, and dart frogs\, your children will sail along on a fun jungle cruise\, stopping at seven ports of call. These ports are the 7 C’s of History: Creation\, Corruption\, Catastrophe\, Confusion\, Christ\, Cross\, and Consummation. Kids will discover how these events shape our world\, and they will learn to reconnect the Bible to their everyday life. Prepare to swing into fun as we head out on The Great Jungle Journey!
URL:https://nippenosebiblefellowship.com/event/vacation-bible-school/2024-07-09/
LOCATION:Nippenose BIble Fellowship\, 92 Schoolhouse Road\, Jersey Shore\, PA\, 17740\, United States
CATEGORIES:Vacation Bible School
ATTACH;FMTTYPE=image/jpeg:https://nippenosebiblefellowship.com/wp-content/uploads/2022/03/2024-02-08_0011.jpg
END:VEVENT
BEGIN:VEVENT
DTSTART;TZID=America/New_York:20240710T180000
DTEND;TZID=America/New_York:20240710T203000
DTSTAMP:20260421T124500
CREATED:20220330T145740Z
LAST-MODIFIED:20240208T191757Z
UID:10000390-1720634400-1720643400@nippenosebiblefellowship.com
SUMMARY:2024 Vacation Bible School
DESCRIPTION:Join us for Vacation Bible School July 9th through July 12th from 6pm to 8:30pm. Registration and Check-in daily at 5:30PM \nAll children entering Pre-k through 5th grade are welcome. \nEvery day\, our kids are bombarded with questions: Did God really create everything? Why do bad things happen? Was Noah’s ark real? Why do I need to be saved? Can I trust the Bible? At this VBS\, your kids will explore the biblical answers to these questions as they set off on an epic adventure from Genesis to Revelation. Amid sloths\, butterflies\, river dolphins\, and dart frogs\, your children will sail along on a fun jungle cruise\, stopping at seven ports of call. These ports are the 7 C’s of History: Creation\, Corruption\, Catastrophe\, Confusion\, Christ\, Cross\, and Consummation. Kids will discover how these events shape our world\, and they will learn to reconnect the Bible to their everyday life. Prepare to swing into fun as we head out on The Great Jungle Journey!
URL:https://nippenosebiblefellowship.com/event/vacation-bible-school/2024-07-10/
LOCATION:Nippenose BIble Fellowship\, 92 Schoolhouse Road\, Jersey Shore\, PA\, 17740\, United States
CATEGORIES:Vacation Bible School
ATTACH;FMTTYPE=image/jpeg:https://nippenosebiblefellowship.com/wp-content/uploads/2022/03/2024-02-08_0011.jpg
END:VEVENT
BEGIN:VEVENT
DTSTART;TZID=America/New_York:20240710T183000
DTEND;TZID=America/New_York:20240710T193000
DTSTAMP:20260421T124500
CREATED:20240208T194131Z
LAST-MODIFIED:20240208T194131Z
UID:10000426-1720636200-1720639800@nippenosebiblefellowship.com
SUMMARY:Youth Group
DESCRIPTION:
URL:https://nippenosebiblefellowship.com/event/youth-group/2024-07-10/
LOCATION:Nippenose BIble Fellowship\, 92 Schoolhouse Road\, Jersey Shore\, PA\, 17740\, United States
CATEGORIES:Youth Group
ATTACH;FMTTYPE=image/jpeg:https://nippenosebiblefellowship.com/wp-content/uploads/2024/02/2024-02-08_0001.jpg
END:VEVENT
BEGIN:VEVENT
DTSTART;TZID=America/New_York:20240711T180000
DTEND;TZID=America/New_York:20240711T203000
DTSTAMP:20260421T124500
CREATED:20220330T145740Z
LAST-MODIFIED:20240208T191757Z
UID:10000391-1720720800-1720729800@nippenosebiblefellowship.com
SUMMARY:2024 Vacation Bible School
DESCRIPTION:Join us for Vacation Bible School July 9th through July 12th from 6pm to 8:30pm. Registration and Check-in daily at 5:30PM \nAll children entering Pre-k through 5th grade are welcome. \nEvery day\, our kids are bombarded with questions: Did God really create everything? Why do bad things happen? Was Noah’s ark real? Why do I need to be saved? Can I trust the Bible? At this VBS\, your kids will explore the biblical answers to these questions as they set off on an epic adventure from Genesis to Revelation. Amid sloths\, butterflies\, river dolphins\, and dart frogs\, your children will sail along on a fun jungle cruise\, stopping at seven ports of call. These ports are the 7 C’s of History: Creation\, Corruption\, Catastrophe\, Confusion\, Christ\, Cross\, and Consummation. Kids will discover how these events shape our world\, and they will learn to reconnect the Bible to their everyday life. Prepare to swing into fun as we head out on The Great Jungle Journey!
URL:https://nippenosebiblefellowship.com/event/vacation-bible-school/2024-07-11/
LOCATION:Nippenose BIble Fellowship\, 92 Schoolhouse Road\, Jersey Shore\, PA\, 17740\, United States
CATEGORIES:Vacation Bible School
ATTACH;FMTTYPE=image/jpeg:https://nippenosebiblefellowship.com/wp-content/uploads/2022/03/2024-02-08_0011.jpg
END:VEVENT
BEGIN:VEVENT
DTSTART;TZID=America/New_York:20240712T180000
DTEND;TZID=America/New_York:20240712T203000
DTSTAMP:20260421T124500
CREATED:20220330T145740Z
LAST-MODIFIED:20240208T191757Z
UID:10000392-1720807200-1720816200@nippenosebiblefellowship.com
SUMMARY:2024 Vacation Bible School
DESCRIPTION:Join us for Vacation Bible School July 9th through July 12th from 6pm to 8:30pm. Registration and Check-in daily at 5:30PM \nAll children entering Pre-k through 5th grade are welcome. \nEvery day\, our kids are bombarded with questions: Did God really create everything? Why do bad things happen? Was Noah’s ark real? Why do I need to be saved? Can I trust the Bible? At this VBS\, your kids will explore the biblical answers to these questions as they set off on an epic adventure from Genesis to Revelation. Amid sloths\, butterflies\, river dolphins\, and dart frogs\, your children will sail along on a fun jungle cruise\, stopping at seven ports of call. These ports are the 7 C’s of History: Creation\, Corruption\, Catastrophe\, Confusion\, Christ\, Cross\, and Consummation. Kids will discover how these events shape our world\, and they will learn to reconnect the Bible to their everyday life. Prepare to swing into fun as we head out on The Great Jungle Journey!
URL:https://nippenosebiblefellowship.com/event/vacation-bible-school/2024-07-12/
LOCATION:Nippenose BIble Fellowship\, 92 Schoolhouse Road\, Jersey Shore\, PA\, 17740\, United States
CATEGORIES:Vacation Bible School
ATTACH;FMTTYPE=image/jpeg:https://nippenosebiblefellowship.com/wp-content/uploads/2022/03/2024-02-08_0011.jpg
END:VEVENT
BEGIN:VEVENT
DTSTART;TZID=America/New_York:20240714T083000
DTEND;TZID=America/New_York:20240714T100000
DTSTAMP:20260421T124500
CREATED:20240208T195422Z
LAST-MODIFIED:20240313T024212Z
UID:10000498-1720945800-1720951200@nippenosebiblefellowship.com
SUMMARY:Small Group Sundays
DESCRIPTION:Join us for coffee\, snacks and Small Group Ministries. \nSocial time on Sunday mornings at 8:30am with Small Group Ministries starting at 9:00am.  We have many class options available: Elementary\, Middle and High School age\, Young Adults\, and other groups for various interests for all ages!   Please contact us today with any questions.  We hope to see you there soon!
URL:https://nippenosebiblefellowship.com/event/sunday-school/2024-07-14/
LOCATION:Nippenose BIble Fellowship\, 92 Schoolhouse Road\, Jersey Shore\, PA\, 17740\, United States
CATEGORIES:Sunday School
ATTACH;FMTTYPE=image/jpeg:https://nippenosebiblefellowship.com/wp-content/uploads/2024/02/sunday.jpg
END:VEVENT
BEGIN:VEVENT
DTSTART;TZID=America/New_York:20240717T183000
DTEND;TZID=America/New_York:20240717T193000
DTSTAMP:20260421T124500
CREATED:20240208T194131Z
LAST-MODIFIED:20240208T194131Z
UID:10000427-1721241000-1721244600@nippenosebiblefellowship.com
SUMMARY:Youth Group
DESCRIPTION:
URL:https://nippenosebiblefellowship.com/event/youth-group/2024-07-17/
LOCATION:Nippenose BIble Fellowship\, 92 Schoolhouse Road\, Jersey Shore\, PA\, 17740\, United States
CATEGORIES:Youth Group
ATTACH;FMTTYPE=image/jpeg:https://nippenosebiblefellowship.com/wp-content/uploads/2024/02/2024-02-08_0001.jpg
END:VEVENT
BEGIN:VEVENT
DTSTART;TZID=America/New_York:20240721T083000
DTEND;TZID=America/New_York:20240721T100000
DTSTAMP:20260421T124500
CREATED:20240208T195422Z
LAST-MODIFIED:20240313T024212Z
UID:10000499-1721550600-1721556000@nippenosebiblefellowship.com
SUMMARY:Small Group Sundays
DESCRIPTION:Join us for coffee\, snacks and Small Group Ministries. \nSocial time on Sunday mornings at 8:30am with Small Group Ministries starting at 9:00am.  We have many class options available: Elementary\, Middle and High School age\, Young Adults\, and other groups for various interests for all ages!   Please contact us today with any questions.  We hope to see you there soon!
URL:https://nippenosebiblefellowship.com/event/sunday-school/2024-07-21/
LOCATION:Nippenose BIble Fellowship\, 92 Schoolhouse Road\, Jersey Shore\, PA\, 17740\, United States
CATEGORIES:Sunday School
ATTACH;FMTTYPE=image/jpeg:https://nippenosebiblefellowship.com/wp-content/uploads/2024/02/sunday.jpg
END:VEVENT
BEGIN:VEVENT
DTSTART;TZID=America/New_York:20240724T183000
DTEND;TZID=America/New_York:20240724T193000
DTSTAMP:20260421T124500
CREATED:20240208T194131Z
LAST-MODIFIED:20240208T194131Z
UID:10000428-1721845800-1721849400@nippenosebiblefellowship.com
SUMMARY:Youth Group
DESCRIPTION:
URL:https://nippenosebiblefellowship.com/event/youth-group/2024-07-24/
LOCATION:Nippenose BIble Fellowship\, 92 Schoolhouse Road\, Jersey Shore\, PA\, 17740\, United States
CATEGORIES:Youth Group
ATTACH;FMTTYPE=image/jpeg:https://nippenosebiblefellowship.com/wp-content/uploads/2024/02/2024-02-08_0001.jpg
END:VEVENT
BEGIN:VEVENT
DTSTART;TZID=America/New_York:20240728T083000
DTEND;TZID=America/New_York:20240728T100000
DTSTAMP:20260421T124500
CREATED:20240208T195422Z
LAST-MODIFIED:20240313T024212Z
UID:10000500-1722155400-1722160800@nippenosebiblefellowship.com
SUMMARY:Small Group Sundays
DESCRIPTION:Join us for coffee\, snacks and Small Group Ministries. \nSocial time on Sunday mornings at 8:30am with Small Group Ministries starting at 9:00am.  We have many class options available: Elementary\, Middle and High School age\, Young Adults\, and other groups for various interests for all ages!   Please contact us today with any questions.  We hope to see you there soon!
URL:https://nippenosebiblefellowship.com/event/sunday-school/2024-07-28/
LOCATION:Nippenose BIble Fellowship\, 92 Schoolhouse Road\, Jersey Shore\, PA\, 17740\, United States
CATEGORIES:Sunday School
ATTACH;FMTTYPE=image/jpeg:https://nippenosebiblefellowship.com/wp-content/uploads/2024/02/sunday.jpg
END:VEVENT
END:VCALENDAR